BEGIN:VCALENDAR
VERSION:2.0
PRODID:-//Navy Club Newton Aycliffe - ECPv6.15.20//NONSGML v1.0//EN
CALSCALE:GREGORIAN
METHOD:PUBLISH
X-WR-CALNAME:Navy Club Newton Aycliffe
X-ORIGINAL-URL:https://navyclubaycliffe.co.uk
X-WR-CALDESC:Events for Navy Club Newton Aycliffe
REFRESH-INTERVAL;VALUE=DURATION:PT1H
X-Robots-Tag:noindex
X-PUBLISHED-TTL:PT1H
BEGIN:VTIMEZONE
TZID:Europe/London
BEGIN:DAYLIGHT
TZOFFSETFROM:+0000
TZOFFSETTO:+0100
TZNAME:BST
DTSTART:20240331T010000
END:DAYLIGHT
BEGIN:STANDARD
TZOFFSETFROM:+0100
TZOFFSETTO:+0000
TZNAME:GMT
DTSTART:20241027T010000
END:STANDARD
BEGIN:DAYLIGHT
TZOFFSETFROM:+0000
TZOFFSETTO:+0100
TZNAME:BST
DTSTART:20250330T010000
END:DAYLIGHT
BEGIN:STANDARD
TZOFFSETFROM:+0100
TZOFFSETTO:+0000
TZNAME:GMT
DTSTART:20251026T010000
END:STANDARD
BEGIN:DAYLIGHT
TZOFFSETFROM:+0000
TZOFFSETTO:+0100
TZNAME:BST
DTSTART:20260329T010000
END:DAYLIGHT
BEGIN:STANDARD
TZOFFSETFROM:+0100
TZOFFSETTO:+0000
TZNAME:GMT
DTSTART:20261025T010000
END:STANDARD
END:VTIMEZONE
BEGIN:VEVENT
DTSTART;TZID=Europe/London:20251207T190000
DTEND;TZID=Europe/London:20251207T230000
DTSTAMP:20260421T193720
CREATED:20251201T122655Z
LAST-MODIFIED:20251201T122655Z
UID:4476-1765134000-1765148400@navyclubaycliffe.co.uk
SUMMARY:Craig Johnson
DESCRIPTION:
URL:https://navyclubaycliffe.co.uk/event/craig-johnson/
LOCATION:Concert Room
CATEGORIES:Shows
ATTACH;FMTTYPE=image/jpeg:https://navyclubaycliffe.co.uk/wp-content/uploads/2025/12/Craig-Johnson-scaled.jpg
END:VEVENT
BEGIN:VEVENT
DTSTART;TZID=Europe/London:20251214T190000
DTEND;TZID=Europe/London:20251214T230000
DTSTAMP:20260421T193720
CREATED:20251201T123701Z
LAST-MODIFIED:20251201T123701Z
UID:4483-1765738800-1765753200@navyclubaycliffe.co.uk
SUMMARY:Michael Richards
DESCRIPTION:
URL:https://navyclubaycliffe.co.uk/event/michael-richards/
LOCATION:Concert Room
CATEGORIES:Shows
ATTACH;FMTTYPE=image/jpeg:https://navyclubaycliffe.co.uk/wp-content/uploads/2025/12/Michael-Richards-scaled.jpg
END:VEVENT
BEGIN:VEVENT
DTSTART;TZID=Europe/London:20251221T190000
DTEND;TZID=Europe/London:20251221T230000
DTSTAMP:20260421T193720
CREATED:20251201T123025Z
LAST-MODIFIED:20251201T123025Z
UID:4480-1766343600-1766358000@navyclubaycliffe.co.uk
SUMMARY:Russell Bruce
DESCRIPTION:
URL:https://navyclubaycliffe.co.uk/event/russell-bruce/
LOCATION:Concert Room
CATEGORIES:Shows
ATTACH;FMTTYPE=image/jpeg:https://navyclubaycliffe.co.uk/wp-content/uploads/2025/12/Russell-Bruce-scaled.jpg
END:VEVENT
BEGIN:VEVENT
DTSTART;TZID=Europe/London:20251226T190000
DTEND;TZID=Europe/London:20251226T230000
DTSTAMP:20260421T193720
CREATED:20251027T112009Z
LAST-MODIFIED:20251027T112009Z
UID:4454-1766775600-1766790000@navyclubaycliffe.co.uk
SUMMARY:Boxing Night Special !
DESCRIPTION:with brill vocals from \nDanielle Darbyshire and also \nthe fab vocals of Shiel Campbell. \nTickets £5 available from behind the Bar shortly. keep an eye on this page for update.
URL:https://navyclubaycliffe.co.uk/event/boxing-night-special/
LOCATION:Concert Room
CATEGORIES:Shows
ATTACH;FMTTYPE=image/jpeg:https://navyclubaycliffe.co.uk/wp-content/uploads/2025/10/Boxing-Night-scaled.jpg
END:VEVENT
BEGIN:VEVENT
DTSTART;TZID=Europe/London:20251228T190000
DTEND;TZID=Europe/London:20251228T230000
DTSTAMP:20260421T193720
CREATED:20251201T122805Z
LAST-MODIFIED:20251201T122805Z
UID:4478-1766948400-1766962800@navyclubaycliffe.co.uk
SUMMARY:Lacey
DESCRIPTION:
URL:https://navyclubaycliffe.co.uk/event/lacey-2/
LOCATION:Concert Room
CATEGORIES:Shows
ATTACH;FMTTYPE=image/jpeg:https://navyclubaycliffe.co.uk/wp-content/uploads/2025/12/Lacey-scaled.jpg
END:VEVENT
BEGIN:VEVENT
DTSTART;TZID=Europe/London:20251231T190000
DTEND;TZID=Europe/London:20251231T190000
DTSTAMP:20260421T193720
CREATED:20251027T113309Z
LAST-MODIFIED:20251027T113309Z
UID:4460-1767207600-1767207600@navyclubaycliffe.co.uk
SUMMARY:New Years Eve Special !
DESCRIPTION:With\nCASETTA bringing you MADE IN THE ’80’s\nalso a great male vocal\nDARREN BATEY\nTickets £10 available from behind the bar soon.
URL:https://navyclubaycliffe.co.uk/event/new-years-eve-special/
LOCATION:Concert Room
CATEGORIES:Shows
ATTACH;FMTTYPE=image/jpeg:https://navyclubaycliffe.co.uk/wp-content/uploads/2025/10/NYE-scaled.jpg
END:VEVENT
END:VCALENDAR