BEGIN:VCALENDAR
VERSION:2.0
PRODID:-//Navy Club Newton Aycliffe - ECPv6.15.20//NONSGML v1.0//EN
CALSCALE:GREGORIAN
METHOD:PUBLISH
X-WR-CALNAME:Navy Club Newton Aycliffe
X-ORIGINAL-URL:https://navyclubaycliffe.co.uk
X-WR-CALDESC:Events for Navy Club Newton Aycliffe
REFRESH-INTERVAL;VALUE=DURATION:PT1H
X-Robots-Tag:noindex
X-PUBLISHED-TTL:PT1H
BEGIN:VTIMEZONE
TZID:Europe/London
BEGIN:DAYLIGHT
TZOFFSETFROM:+0000
TZOFFSETTO:+0100
TZNAME:BST
DTSTART:20240331T010000
END:DAYLIGHT
BEGIN:STANDARD
TZOFFSETFROM:+0100
TZOFFSETTO:+0000
TZNAME:GMT
DTSTART:20241027T010000
END:STANDARD
BEGIN:DAYLIGHT
TZOFFSETFROM:+0000
TZOFFSETTO:+0100
TZNAME:BST
DTSTART:20250330T010000
END:DAYLIGHT
BEGIN:STANDARD
TZOFFSETFROM:+0100
TZOFFSETTO:+0000
TZNAME:GMT
DTSTART:20251026T010000
END:STANDARD
BEGIN:DAYLIGHT
TZOFFSETFROM:+0000
TZOFFSETTO:+0100
TZNAME:BST
DTSTART:20260329T010000
END:DAYLIGHT
BEGIN:STANDARD
TZOFFSETFROM:+0100
TZOFFSETTO:+0000
TZNAME:GMT
DTSTART:20261025T010000
END:STANDARD
END:VTIMEZONE
BEGIN:VEVENT
DTSTART;TZID=Europe/London:20251019T190000
DTEND;TZID=Europe/London:20251019T230000
DTSTAMP:20260421T225817
CREATED:20250920T120616Z
LAST-MODIFIED:20250920T120616Z
UID:4389-1760900400-1760914800@navyclubaycliffe.co.uk
SUMMARY:Adam London
DESCRIPTION:
URL:https://navyclubaycliffe.co.uk/event/adam-london/
LOCATION:Concert Room
CATEGORIES:Shows
ATTACH;FMTTYPE=image/jpeg:https://navyclubaycliffe.co.uk/wp-content/uploads/2025/09/Adam-London-scaled.jpg
END:VEVENT
BEGIN:VEVENT
DTSTART;TZID=Europe/London:20251012T190000
DTEND;TZID=Europe/London:20251012T230000
DTSTAMP:20260421T225817
CREATED:20250920T120831Z
LAST-MODIFIED:20250920T120831Z
UID:4393-1760295600-1760310000@navyclubaycliffe.co.uk
SUMMARY:Rhian Leslie
DESCRIPTION:
URL:https://navyclubaycliffe.co.uk/event/rhian-leslie/
LOCATION:Concert Room
CATEGORIES:Shows
ATTACH;FMTTYPE=image/jpeg:https://navyclubaycliffe.co.uk/wp-content/uploads/2025/09/Rhian-Leslie-scaled.jpg
END:VEVENT
BEGIN:VEVENT
DTSTART;TZID=Europe/London:20251005T190000
DTEND;TZID=Europe/London:20251005T230000
DTSTAMP:20260421T225817
CREATED:20250920T120719Z
LAST-MODIFIED:20250920T120719Z
UID:4391-1759690800-1759705200@navyclubaycliffe.co.uk
SUMMARY:Caitlin Black
DESCRIPTION:
URL:https://navyclubaycliffe.co.uk/event/caitlin-black/
LOCATION:Concert Room
CATEGORIES:Shows
ATTACH;FMTTYPE=image/jpeg:https://navyclubaycliffe.co.uk/wp-content/uploads/2025/09/Caitlin-Black-scaled.jpg
END:VEVENT
BEGIN:VEVENT
DTSTART;TZID=Europe/London:20250928T190000
DTEND;TZID=Europe/London:20250928T230000
DTSTAMP:20260421T225817
CREATED:20250823T115406Z
LAST-MODIFIED:20250825T112600Z
UID:4345-1759086000-1759100400@navyclubaycliffe.co.uk
SUMMARY:Ellie Romano
DESCRIPTION:
URL:https://navyclubaycliffe.co.uk/event/ellie-romano/
LOCATION:Concert Room
CATEGORIES:Shows
ATTACH;FMTTYPE=image/jpeg:https://navyclubaycliffe.co.uk/wp-content/uploads/2025/08/Ellie-Romano-scaled.jpg
END:VEVENT
BEGIN:VEVENT
DTSTART;TZID=Europe/London:20250921T190000
DTEND;TZID=Europe/London:20250921T230000
DTSTAMP:20260421T225817
CREATED:20250823T115310Z
LAST-MODIFIED:20250825T112843Z
UID:4343-1758481200-1758495600@navyclubaycliffe.co.uk
SUMMARY:Michelle B
DESCRIPTION:
URL:https://navyclubaycliffe.co.uk/event/michelle-b-2/
LOCATION:Concert Room
CATEGORIES:Shows
ATTACH;FMTTYPE=image/jpeg:https://navyclubaycliffe.co.uk/wp-content/uploads/2025/08/Michelle-B-scaled.jpg
END:VEVENT
BEGIN:VEVENT
DTSTART;TZID=Europe/London:20250914T190000
DTEND;TZID=Europe/London:20250914T230000
DTSTAMP:20260421T225817
CREATED:20250823T115219Z
LAST-MODIFIED:20250823T115517Z
UID:4341-1757876400-1757890800@navyclubaycliffe.co.uk
SUMMARY:Angie
DESCRIPTION:
URL:https://navyclubaycliffe.co.uk/event/angie/
LOCATION:Concert Room
CATEGORIES:Shows
END:VEVENT
BEGIN:VEVENT
DTSTART;TZID=Europe/London:20250913T190000
DTEND;TZID=Europe/London:20250913T230000
DTSTAMP:20260421T225817
CREATED:20250727T123252Z
LAST-MODIFIED:20250727T123252Z
UID:4275-1757790000-1757804400@navyclubaycliffe.co.uk
SUMMARY:80's Party Night
DESCRIPTION:Fancy Dress: Optional—but the more outrageous\, the better! Whether you’re rocking leg warmers\, shoulder pads\, or parachute pants\, come dressed to impress. \n🕺 From Madonna to Michael\, Bowie to Blondie—expect a playlist packed with the best of the decade. Light-up dance floor\, disco balls\, and high-energy vibes guaranteed.
URL:https://navyclubaycliffe.co.uk/event/80s-party-night/
LOCATION:Concert Room
CATEGORIES:Shows
ATTACH;FMTTYPE=image/png:https://navyclubaycliffe.co.uk/wp-content/uploads/2025/07/Copilot_20250727_113747.png
END:VEVENT
BEGIN:VEVENT
DTSTART;TZID=Europe/London:20250907T190000
DTEND;TZID=Europe/London:20250907T230000
DTSTAMP:20260421T225817
CREATED:20250823T115117Z
LAST-MODIFIED:20250823T115117Z
UID:4339-1757271600-1757286000@navyclubaycliffe.co.uk
SUMMARY:Micky Walters
DESCRIPTION:
URL:https://navyclubaycliffe.co.uk/event/micky-walters/
LOCATION:Concert Room
CATEGORIES:Shows
END:VEVENT
BEGIN:VEVENT
DTSTART;TZID=Europe/London:20250831T190000
DTEND;TZID=Europe/London:20250831T230000
DTSTAMP:20260421T225817
CREATED:20250727T122559Z
LAST-MODIFIED:20250727T122559Z
UID:4269-1756666800-1756681200@navyclubaycliffe.co.uk
SUMMARY:Paul Adams
DESCRIPTION:
URL:https://navyclubaycliffe.co.uk/event/paul-adams/
LOCATION:Concert Room
CATEGORIES:Shows
ATTACH;FMTTYPE=image/jpeg:https://navyclubaycliffe.co.uk/wp-content/uploads/2025/07/Paul-Adams-scaled.jpg
END:VEVENT
BEGIN:VEVENT
DTSTART;TZID=Europe/London:20250824T190000
DTEND;TZID=Europe/London:20250824T230000
DTSTAMP:20260421T225817
CREATED:20250727T122825Z
LAST-MODIFIED:20250727T122825Z
UID:4273-1756062000-1756076400@navyclubaycliffe.co.uk
SUMMARY:Daryl Todd
DESCRIPTION:
URL:https://navyclubaycliffe.co.uk/event/daryl-todd/
LOCATION:Concert Room
CATEGORIES:Shows
ATTACH;FMTTYPE=image/jpeg:https://navyclubaycliffe.co.uk/wp-content/uploads/2025/07/Daryl-Todd-scaled.jpg
END:VEVENT
BEGIN:VEVENT
DTSTART;TZID=Europe/London:20250817T190000
DTEND;TZID=Europe/London:20250817T230000
DTSTAMP:20260421T225817
CREATED:20250727T122711Z
LAST-MODIFIED:20250727T122711Z
UID:4271-1755457200-1755471600@navyclubaycliffe.co.uk
SUMMARY:Ana Fae
DESCRIPTION:
URL:https://navyclubaycliffe.co.uk/event/ana-fae/
LOCATION:Concert Room
CATEGORIES:Shows
ATTACH;FMTTYPE=image/jpeg:https://navyclubaycliffe.co.uk/wp-content/uploads/2025/07/Ana-Fae-scaled.jpg
END:VEVENT
BEGIN:VEVENT
DTSTART;TZID=Europe/London:20250810T190000
DTEND;TZID=Europe/London:20250810T230000
DTSTAMP:20260421T225817
CREATED:20250727T122440Z
LAST-MODIFIED:20250727T122440Z
UID:4267-1754852400-1754866800@navyclubaycliffe.co.uk
SUMMARY:Tony Montana
DESCRIPTION:
URL:https://navyclubaycliffe.co.uk/event/tony-montana/
LOCATION:Concert Room
CATEGORIES:Shows
ATTACH;FMTTYPE=image/jpeg:https://navyclubaycliffe.co.uk/wp-content/uploads/2025/07/Tony-Montana-scaled.jpg
END:VEVENT
BEGIN:VEVENT
DTSTART;TZID=Europe/London:20250803T190000
DTEND;TZID=Europe/London:20250803T230000
DTSTAMP:20260421T225817
CREATED:20250727T122334Z
LAST-MODIFIED:20250727T122334Z
UID:4265-1754247600-1754262000@navyclubaycliffe.co.uk
SUMMARY:Joanne James
DESCRIPTION:
URL:https://navyclubaycliffe.co.uk/event/joanne-james/
LOCATION:Concert Room
CATEGORIES:Shows
ATTACH;FMTTYPE=image/jpeg:https://navyclubaycliffe.co.uk/wp-content/uploads/2025/07/Joanne-James-scaled.jpg
END:VEVENT
BEGIN:VEVENT
DTSTART;TZID=Europe/London:20250727T190000
DTEND;TZID=Europe/London:20250727T230000
DTSTAMP:20260421T225817
CREATED:20250622T110027Z
LAST-MODIFIED:20250622T110027Z
UID:4218-1753642800-1753657200@navyclubaycliffe.co.uk
SUMMARY:Emily Payne
DESCRIPTION:
URL:https://navyclubaycliffe.co.uk/event/emily-payne/
LOCATION:Concert Room
CATEGORIES:Shows
ATTACH;FMTTYPE=image/jpeg:https://navyclubaycliffe.co.uk/wp-content/uploads/2025/06/Emily-Payne.jpg
END:VEVENT
BEGIN:VEVENT
DTSTART;TZID=Europe/London:20250720T190000
DTEND;TZID=Europe/London:20250720T230000
DTSTAMP:20260421T225817
CREATED:20250622T105925Z
LAST-MODIFIED:20250622T105925Z
UID:4216-1753038000-1753052400@navyclubaycliffe.co.uk
SUMMARY:Paul Vincent
DESCRIPTION:
URL:https://navyclubaycliffe.co.uk/event/paul-vincent/
LOCATION:Concert Room
CATEGORIES:Shows
ATTACH;FMTTYPE=image/jpeg:https://navyclubaycliffe.co.uk/wp-content/uploads/2025/06/Paul-Vincent.jpg
END:VEVENT
BEGIN:VEVENT
DTSTART;TZID=Europe/London:20250713T190000
DTEND;TZID=Europe/London:20250713T230000
DTSTAMP:20260421T225817
CREATED:20250622T105813Z
LAST-MODIFIED:20250622T105813Z
UID:4214-1752433200-1752447600@navyclubaycliffe.co.uk
SUMMARY:Danielle Hurst
DESCRIPTION:
URL:https://navyclubaycliffe.co.uk/event/danielle-hurst/
LOCATION:Concert Room
CATEGORIES:Shows
ATTACH;FMTTYPE=image/jpeg:https://navyclubaycliffe.co.uk/wp-content/uploads/2025/06/Danielle-Hurst.jpg
END:VEVENT
BEGIN:VEVENT
DTSTART;TZID=Europe/London:20250706T190000
DTEND;TZID=Europe/London:20250706T230000
DTSTAMP:20260421T225817
CREATED:20250622T105646Z
LAST-MODIFIED:20250622T105646Z
UID:4212-1751828400-1751842800@navyclubaycliffe.co.uk
SUMMARY:Kev Mack
DESCRIPTION:
URL:https://navyclubaycliffe.co.uk/event/kev-mack/
LOCATION:Concert Room
CATEGORIES:Shows
ATTACH;FMTTYPE=image/jpeg:https://navyclubaycliffe.co.uk/wp-content/uploads/2025/06/Kev-Mack.jpg
END:VEVENT
BEGIN:VEVENT
DTSTART;TZID=Europe/London:20250629T190000
DTEND;TZID=Europe/London:20250629T230000
DTSTAMP:20260421T225817
CREATED:20250602T172645Z
LAST-MODIFIED:20250602T172645Z
UID:4184-1751223600-1751238000@navyclubaycliffe.co.uk
SUMMARY:Alice Elle
DESCRIPTION:
URL:https://navyclubaycliffe.co.uk/event/alice-elle/
LOCATION:Concert Room
CATEGORIES:Shows
ATTACH;FMTTYPE=image/jpeg:https://navyclubaycliffe.co.uk/wp-content/uploads/2025/06/Alice-Elle-scaled.jpg
END:VEVENT
BEGIN:VEVENT
DTSTART;TZID=Europe/London:20250622T190000
DTEND;TZID=Europe/London:20250622T230000
DTSTAMP:20260421T225817
CREATED:20250609T101018Z
LAST-MODIFIED:20250609T101018Z
UID:4190-1750618800-1750633200@navyclubaycliffe.co.uk
SUMMARY:Jamie Dickinson
DESCRIPTION:
URL:https://navyclubaycliffe.co.uk/event/jamie-dickinson/
LOCATION:Concert Room
CATEGORIES:Shows
ATTACH;FMTTYPE=image/jpeg:https://navyclubaycliffe.co.uk/wp-content/uploads/2025/06/Jamie-Dickenson-scaled.jpg
END:VEVENT
BEGIN:VEVENT
DTSTART;TZID=Europe/London:20250615T190000
DTEND;TZID=Europe/London:20250615T230000
DTSTAMP:20260421T225817
CREATED:20250602T172549Z
LAST-MODIFIED:20250602T172549Z
UID:4182-1750014000-1750028400@navyclubaycliffe.co.uk
SUMMARY:Dave Keegan
DESCRIPTION:
URL:https://navyclubaycliffe.co.uk/event/dave-keegan/
LOCATION:Concert Room
CATEGORIES:Shows
ATTACH;FMTTYPE=image/jpeg:https://navyclubaycliffe.co.uk/wp-content/uploads/2025/06/Dave-Keegan-scaled.jpg
END:VEVENT
BEGIN:VEVENT
DTSTART;TZID=Europe/London:20250608T190000
DTEND;TZID=Europe/London:20250608T230000
DTSTAMP:20260421T225817
CREATED:20250602T172444Z
LAST-MODIFIED:20250602T172444Z
UID:4180-1749409200-1749423600@navyclubaycliffe.co.uk
SUMMARY:Jacey Taylor
DESCRIPTION:
URL:https://navyclubaycliffe.co.uk/event/jacey-taylor/
LOCATION:Concert Room
CATEGORIES:Shows
ATTACH;FMTTYPE=image/jpeg:https://navyclubaycliffe.co.uk/wp-content/uploads/2025/06/Jacey-Taylor-scaled.jpg
END:VEVENT
BEGIN:VEVENT
DTSTART;TZID=Europe/London:20250525T190000
DTEND;TZID=Europe/London:20250525T230000
DTSTAMP:20260421T225817
CREATED:20250502T142422Z
LAST-MODIFIED:20250502T142422Z
UID:4154-1748199600-1748214000@navyclubaycliffe.co.uk
SUMMARY:David Hutchinson
DESCRIPTION:
URL:https://navyclubaycliffe.co.uk/event/david-hutchinson/
LOCATION:Concert Room
CATEGORIES:Shows
ATTACH;FMTTYPE=image/jpeg:https://navyclubaycliffe.co.uk/wp-content/uploads/2025/05/David-Hutchinson.jpg
END:VEVENT
BEGIN:VEVENT
DTSTART;TZID=Europe/London:20250518T190000
DTEND;TZID=Europe/London:20250518T230000
DTSTAMP:20260421T225817
CREATED:20250502T142328Z
LAST-MODIFIED:20250502T142328Z
UID:4152-1747594800-1747609200@navyclubaycliffe.co.uk
SUMMARY:Lance Newman
DESCRIPTION:
URL:https://navyclubaycliffe.co.uk/event/lance-newman/
LOCATION:Concert Room
CATEGORIES:Shows
ATTACH;FMTTYPE=image/jpeg:https://navyclubaycliffe.co.uk/wp-content/uploads/2025/05/Lance-Newman.jpg
END:VEVENT
BEGIN:VEVENT
DTSTART;TZID=Europe/London:20250511T190000
DTEND;TZID=Europe/London:20250511T230000
DTSTAMP:20260421T225817
CREATED:20250502T142204Z
LAST-MODIFIED:20250502T142204Z
UID:4150-1746990000-1747004400@navyclubaycliffe.co.uk
SUMMARY:Maggie May
DESCRIPTION:
URL:https://navyclubaycliffe.co.uk/event/maggie-may/
LOCATION:Concert Room
CATEGORIES:Shows
ATTACH;FMTTYPE=image/jpeg:https://navyclubaycliffe.co.uk/wp-content/uploads/2025/05/Maggie-May.jpg
END:VEVENT
BEGIN:VEVENT
DTSTART;TZID=Europe/London:20250504T190000
DTEND;TZID=Europe/London:20250504T230000
DTSTAMP:20260421T225817
CREATED:20250502T142044Z
LAST-MODIFIED:20250502T142044Z
UID:4148-1746385200-1746399600@navyclubaycliffe.co.uk
SUMMARY:Andy Mawson
DESCRIPTION:
URL:https://navyclubaycliffe.co.uk/event/andy-mawson/
LOCATION:Concert Room
CATEGORIES:Shows
ATTACH;FMTTYPE=image/jpeg:https://navyclubaycliffe.co.uk/wp-content/uploads/2025/05/Andy-Mawson.jpg
END:VEVENT
BEGIN:VEVENT
DTSTART;TZID=Europe/London:20250427T190000
DTEND;TZID=Europe/London:20250427T230000
DTSTAMP:20260421T225817
CREATED:20250328T134748Z
LAST-MODIFIED:20250328T134748Z
UID:4090-1745780400-1745794800@navyclubaycliffe.co.uk
SUMMARY:Jack Searl
DESCRIPTION:
URL:https://navyclubaycliffe.co.uk/event/jack-searl/
LOCATION:Concert Room
CATEGORIES:Shows
ATTACH;FMTTYPE=image/jpeg:https://navyclubaycliffe.co.uk/wp-content/uploads/2025/03/Jack-Searl-scaled.jpg
END:VEVENT
END:VCALENDAR