BEGIN:VCALENDAR
VERSION:2.0
PRODID:-//Navy Club Newton Aycliffe - ECPv6.15.20//NONSGML v1.0//EN
CALSCALE:GREGORIAN
METHOD:PUBLISH
X-WR-CALNAME:Navy Club Newton Aycliffe
X-ORIGINAL-URL:https://navyclubaycliffe.co.uk
X-WR-CALDESC:Events for Navy Club Newton Aycliffe
REFRESH-INTERVAL;VALUE=DURATION:PT1H
X-Robots-Tag:noindex
X-PUBLISHED-TTL:PT1H
BEGIN:VTIMEZONE
TZID:Europe/London
BEGIN:DAYLIGHT
TZOFFSETFROM:+0000
TZOFFSETTO:+0100
TZNAME:BST
DTSTART:20250330T010000
END:DAYLIGHT
BEGIN:STANDARD
TZOFFSETFROM:+0100
TZOFFSETTO:+0000
TZNAME:GMT
DTSTART:20251026T010000
END:STANDARD
BEGIN:DAYLIGHT
TZOFFSETFROM:+0000
TZOFFSETTO:+0100
TZNAME:BST
DTSTART:20260329T010000
END:DAYLIGHT
BEGIN:STANDARD
TZOFFSETFROM:+0100
TZOFFSETTO:+0000
TZNAME:GMT
DTSTART:20261025T010000
END:STANDARD
BEGIN:DAYLIGHT
TZOFFSETFROM:+0000
TZOFFSETTO:+0100
TZNAME:BST
DTSTART:20270328T010000
END:DAYLIGHT
BEGIN:STANDARD
TZOFFSETFROM:+0100
TZOFFSETTO:+0000
TZNAME:GMT
DTSTART:20271031T010000
END:STANDARD
END:VTIMEZONE
BEGIN:VEVENT
DTSTART;TZID=Europe/London:20260222T190000
DTEND;TZID=Europe/London:20260222T230000
DTSTAMP:20260425T171638
CREATED:20260126T134636Z
LAST-MODIFIED:20260126T134636Z
UID:4855-1771786800-1771801200@navyclubaycliffe.co.uk
SUMMARY:Paul Martin
DESCRIPTION:
URL:https://navyclubaycliffe.co.uk/event/paul-martin/
LOCATION:Concert Room
CATEGORIES:Shows
ATTACH;FMTTYPE=image/jpeg:https://navyclubaycliffe.co.uk/wp-content/uploads/2026/01/Paul-Martin-scaled.jpg
END:VEVENT
BEGIN:VEVENT
DTSTART;TZID=Europe/London:20260301T190000
DTEND;TZID=Europe/London:20260301T230000
DTSTAMP:20260425T171638
CREATED:20260221T143808Z
LAST-MODIFIED:20260221T143808Z
UID:4890-1772391600-1772406000@navyclubaycliffe.co.uk
SUMMARY:Jenni Daniels
DESCRIPTION:
URL:https://navyclubaycliffe.co.uk/event/jenni-daniels-3/
LOCATION:Concert Room
CATEGORIES:Shows
ATTACH;FMTTYPE=image/jpeg:https://navyclubaycliffe.co.uk/wp-content/uploads/2026/02/Jenni-Daniels-scaled.jpg
END:VEVENT
BEGIN:VEVENT
DTSTART;TZID=Europe/London:20260308T190000
DTEND;TZID=Europe/London:20260308T230000
DTSTAMP:20260425T171638
CREATED:20260221T143944Z
LAST-MODIFIED:20260221T143944Z
UID:4892-1772996400-1773010800@navyclubaycliffe.co.uk
SUMMARY:Peter Hoban
DESCRIPTION:
URL:https://navyclubaycliffe.co.uk/event/peter-hoban-2/
LOCATION:Concert Room
CATEGORIES:Shows
ATTACH;FMTTYPE=image/jpeg:https://navyclubaycliffe.co.uk/wp-content/uploads/2026/02/Peter-Hoban-scaled.jpg
END:VEVENT
BEGIN:VEVENT
DTSTART;TZID=Europe/London:20260315T190000
DTEND;TZID=Europe/London:20260315T230000
DTSTAMP:20260425T171638
CREATED:20260221T144111Z
LAST-MODIFIED:20260221T144111Z
UID:4894-1773601200-1773615600@navyclubaycliffe.co.uk
SUMMARY:Paul Vincent
DESCRIPTION:
URL:https://navyclubaycliffe.co.uk/event/paul-vincent-2/
LOCATION:Concert Room
CATEGORIES:Shows
ATTACH;FMTTYPE=image/jpeg:https://navyclubaycliffe.co.uk/wp-content/uploads/2026/02/Paul-Vincent-scaled.jpg
END:VEVENT
BEGIN:VEVENT
DTSTART;TZID=Europe/London:20260322T190000
DTEND;TZID=Europe/London:20260322T230000
DTSTAMP:20260425T171638
CREATED:20260221T144229Z
LAST-MODIFIED:20260221T144229Z
UID:4896-1774206000-1774220400@navyclubaycliffe.co.uk
SUMMARY:Emily Payne
DESCRIPTION:
URL:https://navyclubaycliffe.co.uk/event/emily-payne-2/
LOCATION:Concert Room
CATEGORIES:Shows
ATTACH;FMTTYPE=image/jpeg:https://navyclubaycliffe.co.uk/wp-content/uploads/2026/02/Emily-Payne-scaled.jpg
END:VEVENT
BEGIN:VEVENT
DTSTART;TZID=Europe/London:20260329T190000
DTEND;TZID=Europe/London:20260329T230000
DTSTAMP:20260425T171638
CREATED:20260221T144345Z
LAST-MODIFIED:20260221T144345Z
UID:4898-1774810800-1774825200@navyclubaycliffe.co.uk
SUMMARY:Danielle Hurst
DESCRIPTION:
URL:https://navyclubaycliffe.co.uk/event/danielle-hurst-2/
LOCATION:Concert Room
CATEGORIES:Shows
ATTACH;FMTTYPE=image/jpeg:https://navyclubaycliffe.co.uk/wp-content/uploads/2026/02/Danielle-Hurst-scaled.jpg
END:VEVENT
BEGIN:VEVENT
DTSTART;TZID=Europe/London:20260405T190000
DTEND;TZID=Europe/London:20260405T230000
DTSTAMP:20260425T171638
CREATED:20260323T120353Z
LAST-MODIFIED:20260323T120353Z
UID:4927-1775415600-1775430000@navyclubaycliffe.co.uk
SUMMARY:Lynnie Larkin
DESCRIPTION:
URL:https://navyclubaycliffe.co.uk/event/lynnie-larkin/
LOCATION:Concert Room
CATEGORIES:Shows
ATTACH;FMTTYPE=image/jpeg:https://navyclubaycliffe.co.uk/wp-content/uploads/2026/03/Lynnie-Larkin-scaled.jpg
END:VEVENT
BEGIN:VEVENT
DTSTART;TZID=Europe/London:20260412T190000
DTEND;TZID=Europe/London:20260412T230000
DTSTAMP:20260425T171638
CREATED:20260408T134608Z
LAST-MODIFIED:20260408T134608Z
UID:5010-1776020400-1776034800@navyclubaycliffe.co.uk
SUMMARY:Colin Lynch
DESCRIPTION:
URL:https://navyclubaycliffe.co.uk/event/colin-lynch/
LOCATION:Concert Room
CATEGORIES:Shows
ATTACH;FMTTYPE=image/jpeg:https://navyclubaycliffe.co.uk/wp-content/uploads/2026/04/Colin-Lynch-scaled.jpg
END:VEVENT
BEGIN:VEVENT
DTSTART;TZID=Europe/London:20260419T190000
DTEND;TZID=Europe/London:20260419T230000
DTSTAMP:20260425T171638
CREATED:20260323T120700Z
LAST-MODIFIED:20260323T120700Z
UID:4931-1776625200-1776639600@navyclubaycliffe.co.uk
SUMMARY:Billy Irvine
DESCRIPTION:
URL:https://navyclubaycliffe.co.uk/event/billy-irvine-2/
LOCATION:Concert Room
CATEGORIES:Shows
ATTACH;FMTTYPE=image/jpeg:https://navyclubaycliffe.co.uk/wp-content/uploads/2026/03/Billy-Irvine-scaled.jpg
END:VEVENT
BEGIN:VEVENT
DTSTART;TZID=Europe/London:20260426T190000
DTEND;TZID=Europe/London:20260426T230000
DTSTAMP:20260425T171638
CREATED:20260323T120528Z
LAST-MODIFIED:20260323T120528Z
UID:4929-1777230000-1777244400@navyclubaycliffe.co.uk
SUMMARY:Gemma Frost
DESCRIPTION:
URL:https://navyclubaycliffe.co.uk/event/gemma-frost/
LOCATION:Concert Room
CATEGORIES:Shows
ATTACH;FMTTYPE=image/jpeg:https://navyclubaycliffe.co.uk/wp-content/uploads/2026/03/Gemma-Frost-scaled.jpg
END:VEVENT
END:VCALENDAR