BEGIN:VCALENDAR
VERSION:2.0
PRODID:-//Navy Club Newton Aycliffe - ECPv6.15.20//NONSGML v1.0//EN
CALSCALE:GREGORIAN
METHOD:PUBLISH
X-WR-CALNAME:Navy Club Newton Aycliffe
X-ORIGINAL-URL:https://navyclubaycliffe.co.uk
X-WR-CALDESC:Events for Navy Club Newton Aycliffe
REFRESH-INTERVAL;VALUE=DURATION:PT1H
X-Robots-Tag:noindex
X-PUBLISHED-TTL:PT1H
BEGIN:VTIMEZONE
TZID:Europe/London
BEGIN:DAYLIGHT
TZOFFSETFROM:+0000
TZOFFSETTO:+0100
TZNAME:BST
DTSTART:20250330T010000
END:DAYLIGHT
BEGIN:STANDARD
TZOFFSETFROM:+0100
TZOFFSETTO:+0000
TZNAME:GMT
DTSTART:20251026T010000
END:STANDARD
BEGIN:DAYLIGHT
TZOFFSETFROM:+0000
TZOFFSETTO:+0100
TZNAME:BST
DTSTART:20260329T010000
END:DAYLIGHT
BEGIN:STANDARD
TZOFFSETFROM:+0100
TZOFFSETTO:+0000
TZNAME:GMT
DTSTART:20261025T010000
END:STANDARD
BEGIN:DAYLIGHT
TZOFFSETFROM:+0000
TZOFFSETTO:+0100
TZNAME:BST
DTSTART:20270328T010000
END:DAYLIGHT
BEGIN:STANDARD
TZOFFSETFROM:+0100
TZOFFSETTO:+0000
TZNAME:GMT
DTSTART:20271031T010000
END:STANDARD
END:VTIMEZONE
BEGIN:VEVENT
DTSTART;TZID=Europe/London:20260208T190000
DTEND;TZID=Europe/London:20260208T230000
DTSTAMP:20260421T224234
CREATED:20260126T134330Z
LAST-MODIFIED:20260126T134330Z
UID:4851-1770577200-1770591600@navyclubaycliffe.co.uk
SUMMARY:Ronnie Richmond
DESCRIPTION:
URL:https://navyclubaycliffe.co.uk/event/ronnie-richmond/
LOCATION:Concert Room
CATEGORIES:Shows
ATTACH;FMTTYPE=image/jpeg:https://navyclubaycliffe.co.uk/wp-content/uploads/2026/01/Ronnie-Richmond-scaled.jpg
END:VEVENT
END:VCALENDAR